BEGIN:VCALENDAR
VERSION:2.0
PRODID:-//Running 4 Free - ECPv6.15.18//NONSGML v1.0//EN
CALSCALE:GREGORIAN
METHOD:PUBLISH
X-WR-CALNAME:Running 4 Free
X-ORIGINAL-URL:https://www.running4free.com
X-WR-CALDESC:Events for Running 4 Free
REFRESH-INTERVAL;VALUE=DURATION:PT1H
X-Robots-Tag:noindex
X-PUBLISHED-TTL:PT1H
BEGIN:VTIMEZONE
TZID:America/New_York
BEGIN:DAYLIGHT
TZOFFSETFROM:-0500
TZOFFSETTO:-0400
TZNAME:EDT
DTSTART:20240310T070000
END:DAYLIGHT
BEGIN:STANDARD
TZOFFSETFROM:-0400
TZOFFSETTO:-0500
TZNAME:EST
DTSTART:20241103T060000
END:STANDARD
BEGIN:DAYLIGHT
TZOFFSETFROM:-0500
TZOFFSETTO:-0400
TZNAME:EDT
DTSTART:20250309T070000
END:DAYLIGHT
BEGIN:STANDARD
TZOFFSETFROM:-0400
TZOFFSETTO:-0500
TZNAME:EST
DTSTART:20251102T060000
END:STANDARD
BEGIN:DAYLIGHT
TZOFFSETFROM:-0500
TZOFFSETTO:-0400
TZNAME:EDT
DTSTART:20260308T070000
END:DAYLIGHT
BEGIN:STANDARD
TZOFFSETFROM:-0400
TZOFFSETTO:-0500
TZNAME:EST
DTSTART:20261101T060000
END:STANDARD
END:VTIMEZONE
BEGIN:VEVENT
DTSTART;TZID=America/New_York:20251011T080000
DTEND;TZID=America/New_York:20251011T170000
DTSTAMP:20260425T204829
CREATED:20250718T175106Z
LAST-MODIFIED:20251009T204008Z
UID:10000015-1760169600-1760202000@www.running4free.com
SUMMARY:St Anne's Knights of Columbus 5K
DESCRIPTION:Race Director: Steve Sedgeley\nRace Day Registration: 8:00 AM\nRace Start: 9:00 AM\nRace Location: Shaw Cherry Hill Farm\, Route 25\, Gorham\, Maine 04038 \n\n2024 Race Results\n2024 Race Photos\nGoogle Maps For The Start Location\n\nIf the race is cancelled because of extreme weather conditions or any conditions beyond our control\, NO REFUNDS. \nNo additional fees at checkout.
URL:https://www.running4free.com/event/st-annes-knights-of-columbus-5k/
LOCATION:Shaw Cherry Hill Farm\, Rt. 25 Cherry Hill Road\, Gorham\, ME\, 04038\, United States
CATEGORIES:5K Run/Walk
ATTACH;FMTTYPE=image/png:https://www.running4free.com/wp-content/uploads/2025/07/cherryHillFarm.png
ORGANIZER;CN="Steve Sedgeley":MAILTO:ssedgele@maine.rr.com
END:VEVENT
END:VCALENDAR