BEGIN:VCALENDAR
VERSION:2.0
PRODID:-//Running 4 Free - ECPv6.15.18//NONSGML v1.0//EN
CALSCALE:GREGORIAN
METHOD:PUBLISH
X-WR-CALNAME:Running 4 Free
X-ORIGINAL-URL:https://www.running4free.com
X-WR-CALDESC:Events for Running 4 Free
REFRESH-INTERVAL;VALUE=DURATION:PT1H
X-Robots-Tag:noindex
X-PUBLISHED-TTL:PT1H
BEGIN:VTIMEZONE
TZID:America/New_York
BEGIN:DAYLIGHT
TZOFFSETFROM:-0500
TZOFFSETTO:-0400
TZNAME:EDT
DTSTART:20240310T070000
END:DAYLIGHT
BEGIN:STANDARD
TZOFFSETFROM:-0400
TZOFFSETTO:-0500
TZNAME:EST
DTSTART:20241103T060000
END:STANDARD
BEGIN:DAYLIGHT
TZOFFSETFROM:-0500
TZOFFSETTO:-0400
TZNAME:EDT
DTSTART:20250309T070000
END:DAYLIGHT
BEGIN:STANDARD
TZOFFSETFROM:-0400
TZOFFSETTO:-0500
TZNAME:EST
DTSTART:20251102T060000
END:STANDARD
BEGIN:DAYLIGHT
TZOFFSETFROM:-0500
TZOFFSETTO:-0400
TZNAME:EDT
DTSTART:20260308T070000
END:DAYLIGHT
BEGIN:STANDARD
TZOFFSETFROM:-0400
TZOFFSETTO:-0500
TZNAME:EST
DTSTART:20261101T060000
END:STANDARD
END:VTIMEZONE
BEGIN:VEVENT
DTSTART;TZID=America/New_York:20251013T063000
DTEND;TZID=America/New_York:20251013T110000
DTSTAMP:20260425T192117
CREATED:20250718T184358Z
LAST-MODIFIED:20251009T235428Z
UID:10000017-1760337000-1760353200@www.running4free.com
SUMMARY:Tour de Gourd 5K
DESCRIPTION:Race location: 4 Pump Street\, Newcastle\, Maine 04553 \nRace Director: Laura Sofen\nE-mail: 5k@damariscottapumpkinfest.com \nRace day registration: 6:30 AM\nStart time: 8:00 AM\nPre-registered fees: $25.00\nRace day fees: $30.00 \nParking: Please park at Lincoln Academy\, a 10 minute walk to the start.\n\nRoute: From the Newcastle Town Office\, we’ll run down Main Street past all the amazing pumpkins! The road will be closed for this section of the race. At the Baptist Church\, take a left on to Church St and follow an out-and-back loop on the quiet street of Damariscotta (roads open to traffic\, run on the left hand side). The finish is the Elm Street Plaza – right in front of the winning giant pumpkin.\n\nRace Website\nFacebook Page\nGoogle Maps for the start location
URL:https://www.running4free.com/event/tour-de-gourd-5k/
LOCATION:Newcastle Town Office\, 4 Pump Street\, Newcastle\, ME\, 04553\, United States
CATEGORIES:5K Run/Walk
ATTACH;FMTTYPE=image/png:https://www.running4free.com/wp-content/uploads/2025/07/damariscotta_pumpkinfest.png
ORGANIZER;CN="Laura Sofen":MAILTO:5k@damariscottapumpkinfest.com
END:VEVENT
END:VCALENDAR