BEGIN:VCALENDAR
VERSION:2.0
PRODID:-//Running 4 Free - ECPv6.15.18//NONSGML v1.0//EN
CALSCALE:GREGORIAN
METHOD:PUBLISH
X-ORIGINAL-URL:https://www.running4free.com
X-WR-CALDESC:Events for Running 4 Free
REFRESH-INTERVAL;VALUE=DURATION:PT1H
X-Robots-Tag:noindex
X-PUBLISHED-TTL:PT1H
BEGIN:VTIMEZONE
TZID:America/New_York
BEGIN:DAYLIGHT
TZOFFSETFROM:-0500
TZOFFSETTO:-0400
TZNAME:EDT
DTSTART:20240310T070000
END:DAYLIGHT
BEGIN:STANDARD
TZOFFSETFROM:-0400
TZOFFSETTO:-0500
TZNAME:EST
DTSTART:20241103T060000
END:STANDARD
BEGIN:DAYLIGHT
TZOFFSETFROM:-0500
TZOFFSETTO:-0400
TZNAME:EDT
DTSTART:20250309T070000
END:DAYLIGHT
BEGIN:STANDARD
TZOFFSETFROM:-0400
TZOFFSETTO:-0500
TZNAME:EST
DTSTART:20251102T060000
END:STANDARD
BEGIN:DAYLIGHT
TZOFFSETFROM:-0500
TZOFFSETTO:-0400
TZNAME:EDT
DTSTART:20260308T070000
END:DAYLIGHT
BEGIN:STANDARD
TZOFFSETFROM:-0400
TZOFFSETTO:-0500
TZNAME:EST
DTSTART:20261101T060000
END:STANDARD
END:VTIMEZONE
BEGIN:VEVENT
DTSTART;TZID=America/New_York:20250907T083000
DTEND;TZID=America/New_York:20250907T113000
DTSTAMP:20260425T233228
CREATED:20250717T210813Z
LAST-MODIFIED:20250910T181558Z
UID:10000009-1757233800-1757244600@www.running4free.com
SUMMARY:9/11 Memorial 5K Run~Walk and Kids Fun Run
DESCRIPTION:This race benefits the Stephen G. Ward Memorial Scholarship Fund.  Steve was young\, vibrant\, and ambitious when he was so needlessly taken from us on September 11th\, 2001. He was a funny\, charismatic\, and loving son\, brother\, uncle\, and friend\, and was climbing a promising career ladder at Cantor Fitzgerald. He was one of the best and the brightest\, a symbol of what America lost that tragic day. This event is to honor and remember all of those we lost.\n\nEvent t-shirt for the first 100 registered. \nKids’ Fun Run starts at the adjacent Gorham High School track at 8:30 AM. Children aged 8 years and under will run one lap (0.25 miles)\, while children aged 9 to 12 years old will run two laps (0.50 miles). \n5K will start after all the parents return from the kids’ fun and after the send-off of our uniformed emergency responders\, who complete the 5K course in full gear.  Typically\, the runners and walkers start around 9:15. \nIf the race is canceled due to extreme weather conditions or any other conditions beyond our control\, we will not be able to refund registration fees. \n\nDrone video of the National Anthem at the start\nDrone video of firefighters finishing the race\nDrone video of firefighters starting the race\n2024 Results\n2024 Race Photos\nUSATAF Certified Course\nFacebook\nGoogle Maps for Start Location\n\n\nNo fees at checkout
URL:https://www.running4free.com/event/9-11-memorial-5k-run-walk-and-kids-fun-run/
LOCATION:Gorham Recreation Department\, Ball Park Road\, Gorham\, ME\, 04038\, United States
CATEGORIES:5K Run/Walk
ATTACH;FMTTYPE=image/png:https://www.running4free.com/wp-content/uploads/2025/07/911_memorial_5k.png
ORGANIZER;CN="Kathryn Ward":MAILTO:911memorial5k@gmail.com
END:VEVENT
END:VCALENDAR