BEGIN:VCALENDAR
VERSION:2.0
PRODID:-//Running 4 Free - ECPv6.15.18//NONSGML v1.0//EN
CALSCALE:GREGORIAN
METHOD:PUBLISH
X-WR-CALNAME:Running 4 Free
X-ORIGINAL-URL:https://www.running4free.com
X-WR-CALDESC:Events for Running 4 Free
REFRESH-INTERVAL;VALUE=DURATION:PT1H
X-Robots-Tag:noindex
X-PUBLISHED-TTL:PT1H
BEGIN:VTIMEZONE
TZID:America/New_York
BEGIN:DAYLIGHT
TZOFFSETFROM:-0500
TZOFFSETTO:-0400
TZNAME:EDT
DTSTART:20250309T070000
END:DAYLIGHT
BEGIN:STANDARD
TZOFFSETFROM:-0400
TZOFFSETTO:-0500
TZNAME:EST
DTSTART:20251102T060000
END:STANDARD
BEGIN:DAYLIGHT
TZOFFSETFROM:-0500
TZOFFSETTO:-0400
TZNAME:EDT
DTSTART:20260308T070000
END:DAYLIGHT
BEGIN:STANDARD
TZOFFSETFROM:-0400
TZOFFSETTO:-0500
TZNAME:EST
DTSTART:20261101T060000
END:STANDARD
BEGIN:DAYLIGHT
TZOFFSETFROM:-0500
TZOFFSETTO:-0400
TZNAME:EDT
DTSTART:20270314T070000
END:DAYLIGHT
BEGIN:STANDARD
TZOFFSETFROM:-0400
TZOFFSETTO:-0500
TZNAME:EST
DTSTART:20271107T060000
END:STANDARD
END:VTIMEZONE
BEGIN:VEVENT
DTSTART;TZID=America/New_York:20260517T080000
DTEND;TZID=America/New_York:20260517T110000
DTSTAMP:20260420T053614
CREATED:20260219T143727Z
LAST-MODIFIED:20260224T233125Z
UID:10000037-1779004800-1779015600@www.running4free.com
SUMMARY:2026 Jack Bradshaw Run2Read 5K
DESCRIPTION:Sunday May 17\, 2026 \nResgistration- 8AM \nRace Start- 9AM \nPre-Registered-$35.00 \nRace Day- $40.00 \nLocation- Rochester Ice Arena \n45 Lowell Street Rochester\, NH  035767 \nCourse Map \nGoggle Maps  \nContact-  Lynn Macfarlane\, lynn_macfarlane@comcast.com \nOrginization- \nSeacoast Learning Center \nChildrens Dyslexia Centers \n33 Hanson Street Rochester\, NH  03867 \n1-603-335-6779
URL:https://www.running4free.com/event/2026-jack-bradshaw-run2read-5k/
LOCATION:Run2Read 5K\, 45 Lowell Street\, Rochester
ATTACH;FMTTYPE=image/jpeg:https://www.running4free.com/wp-content/uploads/2026/02/Run2Read-Image.jpg
ORGANIZER;CN="Lynn Macfarlane":MAILTO:lynn_macfarlane@comcast.com
END:VEVENT
END:VCALENDAR