BEGIN:VCALENDAR
VERSION:2.0
PRODID:-//Running 4 Free - ECPv6.15.18//NONSGML v1.0//EN
CALSCALE:GREGORIAN
METHOD:PUBLISH
X-WR-CALNAME:Running 4 Free
X-ORIGINAL-URL:https://www.running4free.com
X-WR-CALDESC:Events for Running 4 Free
REFRESH-INTERVAL;VALUE=DURATION:PT1H
X-Robots-Tag:noindex
X-PUBLISHED-TTL:PT1H
BEGIN:VTIMEZONE
TZID:America/New_York
BEGIN:DAYLIGHT
TZOFFSETFROM:-0500
TZOFFSETTO:-0400
TZNAME:EDT
DTSTART:20250309T070000
END:DAYLIGHT
BEGIN:STANDARD
TZOFFSETFROM:-0400
TZOFFSETTO:-0500
TZNAME:EST
DTSTART:20251102T060000
END:STANDARD
BEGIN:DAYLIGHT
TZOFFSETFROM:-0500
TZOFFSETTO:-0400
TZNAME:EDT
DTSTART:20260308T070000
END:DAYLIGHT
BEGIN:STANDARD
TZOFFSETFROM:-0400
TZOFFSETTO:-0500
TZNAME:EST
DTSTART:20261101T060000
END:STANDARD
BEGIN:DAYLIGHT
TZOFFSETFROM:-0500
TZOFFSETTO:-0400
TZNAME:EDT
DTSTART:20270314T070000
END:DAYLIGHT
BEGIN:STANDARD
TZOFFSETFROM:-0400
TZOFFSETTO:-0500
TZNAME:EST
DTSTART:20271107T060000
END:STANDARD
END:VTIMEZONE
BEGIN:VEVENT
DTSTART;TZID=America/New_York:20260418T080000
DTEND;TZID=America/New_York:20260418T110000
DTSTAMP:20260420T040745
CREATED:20250906T214355Z
LAST-MODIFIED:20260418T232208Z
UID:10000022-1776499200-1776510000@www.running4free.com
SUMMARY:Ashley Ouellette Memorial 5K & 2 Mile Walk
DESCRIPTION:Ashley Ouellette Memorial 5K & 2 Mile Walk\nSaturday\, April 18\, 2026 \n5K Awards – Overall male and female\, 1st male and female in age groups- 0-9\, 10-14\, 15-19\, 20-29\, 30-39\, 40-49\, 50-59\,\n60-69\, 70-79\, 80-99 \nStart time: 9:00 AM \nRace Day Registration: 8:00 AM \nLocation: Blue Point Primary School\, 174 Pine Point Road\, Scarborough \nAshley Ouellette Facebook Page \nMaine Cold Case Alliance \nUnsolved Homicides \nGoogle Maps \n2026 Race Results \nRace Photos \nVideo of start \nAll race proceeds will benefit the Ashley Ouellette Memorial Fund at Thornton Academy\, Maine. Ashley Ouellette\, a 15-year-old girl\, was killed on February 10\, 1999\, and her body was found by a passerby in the middle of Pint Point Road in Scarborough\, Maine. Her death remains unsolved. \nIf race is canceled because of extreme weather conditions or any condition beyond our control\, NO REFUNDS. \nRace Managed by 5K Sports Race Management \n 
URL:https://www.running4free.com/event/ashley-ouellette-memorial-5k-2-mile-walk/
LOCATION:Ashley Ouellette 5K\, 174 Blue Point School\, Scarborough\, ME\, 04074\, United States
CATEGORIES:5K Run/2K Walk
ATTACH;FMTTYPE=image/jpeg:https://www.running4free.com/wp-content/uploads/2025/09/Ashley-Picture.jpg
ORGANIZER;CN="Jim McCorkle":MAILTO:Fiveksport@aol.com
END:VEVENT
END:VCALENDAR